BEGIN:VCALENDAR
VERSION:2.0
PRODID:-//time.you/holidays//NONSGML v1.0//EN
BEGIN:VEVENT
UID:8f1c74c0-11ef-4b4f-987c-c30344d8d8e3
DTSTAMP:20260421T155838Z
DTSTART;VALUE=DATE:20261225
SUMMARY:Christmas Day (Central African Republic)
END:VEVENT
END:VCALENDAR