BEGIN:VCALENDAR
VERSION:2.0
PRODID:-//time.you/holidays//NONSGML v1.0//EN
BEGIN:VEVENT
UID:3923a6da-a669-43b2-8d02-7f0c995ba738
DTSTAMP:20260419T233613Z
DTSTART;VALUE=DATE:20260406
SUMMARY:Easter Monday (Central African Republic)
END:VEVENT
END:VCALENDAR