BEGIN:VCALENDAR
VERSION:2.0
PRODID:-//time.you/holidays//NONSGML v1.0//EN
BEGIN:VEVENT
UID:9942f919-1261-4987-b526-a82f6af9f216
DTSTAMP:20260421T194441Z
DTSTART;VALUE=DATE:20260527
SUMMARY:Eid al-Adha (estimated) (Central African Republic)
END:VEVENT
END:VCALENDAR