BEGIN:VCALENDAR
VERSION:2.0
PRODID:-//time.you/holidays//NONSGML v1.0//EN
BEGIN:VEVENT
UID:9edaf8ec-7dae-4744-a194-98045ba58517
DTSTAMP:20260424T122229Z
DTSTART;VALUE=DATE:20250607
SUMMARY:Eid al-Adha (Central African Republic)
END:VEVENT
END:VCALENDAR