BEGIN:VCALENDAR
VERSION:2.0
PRODID:-//time.you/holidays//NONSGML v1.0//EN
BEGIN:VEVENT
UID:611967b1-984c-4ac1-bce3-1842a70d63c8
DTSTAMP:20260421T215347Z
DTSTART;VALUE=DATE:20260320
SUMMARY:Eid al-Fitr (estimated) (Central African Republic)
END:VEVENT
END:VCALENDAR