BEGIN:VCALENDAR
VERSION:2.0
PRODID:-//time.you/holidays//NONSGML v1.0//EN
BEGIN:VEVENT
UID:04a85be6-f9e3-4099-b506-49b5239485e0
DTSTAMP:20260420T095205Z
DTSTART;VALUE=DATE:20261201
SUMMARY:National Day (Central African Republic)
END:VEVENT
END:VCALENDAR