BEGIN:VCALENDAR
VERSION:2.0
PRODID:-//time.you/holidays//NONSGML v1.0//EN
BEGIN:VEVENT
UID:60ba5737-dc16-4726-83be-b3aa3b5dcc34
DTSTAMP:20260421T180957Z
DTSTART;VALUE=DATE:20260101
SUMMARY:New Year's Day (Central African Republic)
END:VEVENT
END:VCALENDAR