BEGIN:VCALENDAR
VERSION:2.0
PRODID:-//time.you/holidays//NONSGML v1.0//EN
BEGIN:VEVENT
UID:208039d8-e225-4550-94d3-7916e54bfaee
DTSTAMP:20260424T122735Z
DTSTART;VALUE=DATE:20261101
SUMMARY:All Saints' Day (Chad)
END:VEVENT
END:VCALENDAR