BEGIN:VCALENDAR
VERSION:2.0
PRODID:-//time.you/holidays//NONSGML v1.0//EN
BEGIN:VEVENT
UID:7b67f096-9286-4a8b-9dad-9ec609a3bd7f
DTSTAMP:20260422T112339Z
DTSTART;VALUE=DATE:20261225
SUMMARY:Christmas Day (Chad)
END:VEVENT
END:VCALENDAR