BEGIN:VCALENDAR
VERSION:2.0
PRODID:-//time.you/holidays//NONSGML v1.0//EN
BEGIN:VEVENT
UID:c20111a4-8cdc-4624-8e4f-be61e49820e3
DTSTAMP:20260420T131858Z
DTSTART;VALUE=DATE:20260527
SUMMARY:Eid al-Adha (estimated) (Chad)
END:VEVENT
END:VCALENDAR