BEGIN:VCALENDAR
VERSION:2.0
PRODID:-//time.you/holidays//NONSGML v1.0//EN
BEGIN:VEVENT
UID:62e2c6ce-8dfd-4dfa-8b66-fdfc559b5d9d
DTSTAMP:20260420T125541Z
DTSTART;VALUE=DATE:20260811
SUMMARY:Independence Day (Chad)
END:VEVENT
END:VCALENDAR