BEGIN:VCALENDAR
VERSION:2.0
PRODID:-//time.you/holidays//NONSGML v1.0//EN
BEGIN:VEVENT
UID:5b5b1daf-1d08-45d4-9ed7-01b213252411
DTSTAMP:20260422T123600Z
DTSTART;VALUE=DATE:20260101
SUMMARY:New Year's Day (Chad)
END:VEVENT
END:VCALENDAR