BEGIN:VCALENDAR
VERSION:2.0
PRODID:-//time.you/holidays//NONSGML v1.0//EN
BEGIN:VEVENT
UID:0609b88d-38d5-4c23-afee-f17585f5e91c
DTSTAMP:20260420T083714Z
DTSTART;VALUE=DATE:20261101
SUMMARY:All Saints' Day (Chile)
END:VEVENT
END:VCALENDAR