BEGIN:VCALENDAR
VERSION:2.0
PRODID:-//time.you/holidays//NONSGML v1.0//EN
BEGIN:VEVENT
UID:2c23d674-cdf3-4015-b942-7825f6660427
DTSTAMP:20260421T205722Z
DTSTART;VALUE=DATE:20260607
SUMMARY:Assault and Capture of Cape Arica (Chile)
END:VEVENT
END:VCALENDAR