BEGIN:VCALENDAR
VERSION:2.0
PRODID:-//time.you/holidays//NONSGML v1.0//EN
BEGIN:VEVENT
UID:12fab02e-a76c-4b5f-a5b6-b1a6d4858790
DTSTAMP:20260423T093224Z
DTSTART;VALUE=DATE:20260404
SUMMARY:Holy Saturday (Chile)
END:VEVENT
END:VCALENDAR