BEGIN:VCALENDAR
VERSION:2.0
PRODID:-//time.you/holidays//NONSGML v1.0//EN
BEGIN:VEVENT
UID:654ea418-1afa-41a4-bbaf-b2ee4b8497e7
DTSTAMP:20260420T221718Z
DTSTART;VALUE=DATE:20261208
SUMMARY:Immaculate Conception (Chile)
END:VEVENT
END:VCALENDAR