BEGIN:VCALENDAR
VERSION:2.0
PRODID:-//time.you/holidays//NONSGML v1.0//EN
BEGIN:VEVENT
UID:e78ef22f-ecf6-42d1-bbe7-fefa3fa2867b
DTSTAMP:20260420T141518Z
DTSTART;VALUE=DATE:20260918
SUMMARY:Independence Day (Chile)
END:VEVENT
END:VCALENDAR