BEGIN:VCALENDAR
VERSION:2.0
PRODID:-//time.you/holidays//NONSGML v1.0//EN
BEGIN:VEVENT
UID:b5b99850-da00-46a2-8f64-2a77284d4d1e
DTSTAMP:20260423T091342Z
DTSTART;VALUE=DATE:20260501
SUMMARY:Labor Day (Chile)
END:VEVENT
END:VCALENDAR