BEGIN:VCALENDAR
VERSION:2.0
PRODID:-//time.you/holidays//NONSGML v1.0//EN
BEGIN:VEVENT
UID:7454e92d-c8e9-40d1-a264-2fdf7519b7e4
DTSTAMP:20260424T045645Z
DTSTART;VALUE=DATE:20270917
SUMMARY:National Holiday (Chile)
END:VEVENT
END:VCALENDAR