BEGIN:VCALENDAR
VERSION:2.0
PRODID:-//time.you/holidays//NONSGML v1.0//EN
BEGIN:VEVENT
UID:71cbf8e4-4d0e-4deb-a65f-ee7dc377bee0
DTSTAMP:20260423T091133Z
DTSTART;VALUE=DATE:20260521
SUMMARY:Navy Day (Chile)
END:VEVENT
END:VCALENDAR