BEGIN:VCALENDAR
VERSION:2.0
PRODID:-//time.you/holidays//NONSGML v1.0//EN
BEGIN:VEVENT
UID:150703e2-3a3b-469d-a06a-dce433d3dad5
DTSTAMP:20260421T104734Z
DTSTART;VALUE=DATE:20260101
SUMMARY:New Year's Day (Chile)
END:VEVENT
END:VCALENDAR