BEGIN:VCALENDAR
VERSION:2.0
PRODID:-//time.you/holidays//NONSGML v1.0//EN
BEGIN:VEVENT
UID:3b8c18fe-3e5f-419b-bebc-9bbeba7999b6
DTSTAMP:20260422T113913Z
DTSTART;VALUE=DATE:20260716
SUMMARY:Our Lady of Mount Carmel (Chile)
END:VEVENT
END:VCALENDAR