BEGIN:VCALENDAR
VERSION:2.0
PRODID:-//time.you/holidays//NONSGML v1.0//EN
BEGIN:VEVENT
UID:2a696f9a-a26c-49c9-ae7e-6aaaabb6dcb4
DTSTAMP:20260422T070546Z
DTSTART;VALUE=DATE:20260629
SUMMARY:Saint Peter and Saint Paul's Day (Chile)
END:VEVENT
END:VCALENDAR