BEGIN:VCALENDAR
VERSION:2.0
PRODID:-//time.you/holidays//NONSGML v1.0//EN
BEGIN:VEVENT
UID:d039bf22-2fce-4303-8a97-4595266e7e42
DTSTAMP:20260423T111549Z
DTSTART;VALUE=DATE:20250203
SUMMARY:Day off (substituted from 01/26/2025) (China)
END:VEVENT
END:VCALENDAR