BEGIN:VCALENDAR
VERSION:2.0
PRODID:-//time.you/holidays//NONSGML v1.0//EN
BEGIN:VEVENT
UID:20874d41-c952-4412-a495-a863d46266ef
DTSTAMP:20260424T034259Z
DTSTART;VALUE=DATE:20230126
SUMMARY:Day off (substituted from 01/28/2023) (China)
END:VEVENT
END:VCALENDAR