BEGIN:VCALENDAR
VERSION:2.0
PRODID:-//time.you/holidays//NONSGML v1.0//EN
BEGIN:VEVENT
UID:9fd2bf19-2e77-43e0-a5b9-932eb87839ca
DTSTAMP:20260423T184055Z
DTSTART;VALUE=DATE:20250204
SUMMARY:Day off (substituted from 02/08/2025) (China)
END:VEVENT
END:VCALENDAR