BEGIN:VCALENDAR
VERSION:2.0
PRODID:-//time.you/holidays//NONSGML v1.0//EN
BEGIN:VEVENT
UID:bc9bf215-bfb3-419f-9d89-4960c39d7526
DTSTAMP:20260421T142705Z
DTSTART;VALUE=DATE:20240405
SUMMARY:Day off (substituted from 04/07/2024) (China)
END:VEVENT
END:VCALENDAR