BEGIN:VCALENDAR
VERSION:2.0
PRODID:-//time.you/holidays//NONSGML v1.0//EN
BEGIN:VEVENT
UID:1d643dda-3529-49c0-9c45-e1f1075b1c74
DTSTAMP:20260421T211125Z
DTSTART;VALUE=DATE:20220503
SUMMARY:Day off (substituted from 04/24/2022) (China)
END:VEVENT
END:VCALENDAR