BEGIN:VCALENDAR
VERSION:2.0
PRODID:-//time.you/holidays//NONSGML v1.0//EN
BEGIN:VEVENT
UID:8474d63a-2735-4134-844b-07402a17f0b7
DTSTAMP:20260421T143911Z
DTSTART;VALUE=DATE:20240502
SUMMARY:Day off (substituted from 04/28/2024) (China)
END:VEVENT
END:VCALENDAR