BEGIN:VCALENDAR
VERSION:2.0
PRODID:-//time.you/holidays//NONSGML v1.0//EN
BEGIN:VEVENT
UID:2003aefa-dd1f-49bd-8e95-941d798b158b
DTSTAMP:20260423T111546Z
DTSTART;VALUE=DATE:20240503
SUMMARY:Day off (substituted from 05/11/2024) (China)
END:VEVENT
END:VCALENDAR