BEGIN:VCALENDAR
VERSION:2.0
PRODID:-//time.you/holidays//NONSGML v1.0//EN
BEGIN:VEVENT
UID:23fef090-b5d4-40e7-abbc-8a569b9bd06e
DTSTAMP:20260422T070847Z
DTSTART;VALUE=DATE:20240916
SUMMARY:Day off (substituted from 09/14/2024) (China)
END:VEVENT
END:VCALENDAR