BEGIN:VCALENDAR
VERSION:2.0
PRODID:-//time.you/holidays//NONSGML v1.0//EN
BEGIN:VEVENT
UID:3186cd66-e08b-48c4-967d-603d1e15b937
DTSTAMP:20260421T223816Z
DTSTART;VALUE=DATE:20241004
SUMMARY:Day off (substituted from 09/29/2024) (China)
END:VEVENT
END:VCALENDAR