BEGIN:VCALENDAR
VERSION:2.0
PRODID:-//time.you/holidays//NONSGML v1.0//EN
BEGIN:VEVENT
UID:ea8a7f5d-0251-4864-99ab-f6c60eba8ce4
DTSTAMP:20260423T105724Z
DTSTART;VALUE=DATE:20221006
SUMMARY:Day off (substituted from 10/08/2022) (China)
END:VEVENT
END:VCALENDAR