BEGIN:VCALENDAR
VERSION:2.0
PRODID:-//time.you/holidays//NONSGML v1.0//EN
BEGIN:VEVENT
UID:c6bdb19c-84fb-4b54-a09d-fe1167ba11e9
DTSTAMP:20260421T222317Z
DTSTART;VALUE=DATE:20221007
SUMMARY:Day off (substituted from 10/09/2022) (China)
END:VEVENT
END:VCALENDAR