BEGIN:VCALENDAR
VERSION:2.0
PRODID:-//time.you/holidays//NONSGML v1.0//EN
BEGIN:VEVENT
UID:ae8db0a3-ede3-4b68-b4a0-af12a41ae089
DTSTAMP:20260421T151751Z
DTSTART;VALUE=DATE:20241007
SUMMARY:Day off (substituted from 10/12/2024) (China)
END:VEVENT
END:VCALENDAR