BEGIN:VCALENDAR
VERSION:2.0
PRODID:-//time.you/holidays//NONSGML v1.0//EN
BEGIN:VEVENT
UID:4dbc3019-17c8-4250-b502-e7294658fcc9
DTSTAMP:20260424T112850Z
DTSTART;VALUE=DATE:20281003
SUMMARY:Mid-Autumn Festival; National Day (China)
END:VEVENT
END:VCALENDAR