BEGIN:VCALENDAR
VERSION:2.0
PRODID:-//time.you/holidays//NONSGML v1.0//EN
BEGIN:VEVENT
UID:676715f4-5dd5-4f30-99a0-cf76d0e0faf5
DTSTAMP:20260421T151541Z
DTSTART;VALUE=DATE:20280103
SUMMARY:New Year's Day (observed) (China)
END:VEVENT
END:VCALENDAR