BEGIN:VCALENDAR
VERSION:2.0
PRODID:-//time.you/holidays//NONSGML v1.0//EN
BEGIN:VEVENT
UID:43f07385-f7b0-4c5a-b262-f78bce28e150
DTSTAMP:20260422T034715Z
DTSTART;VALUE=DATE:20260101
SUMMARY:New Year's Day (China)
END:VEVENT
END:VCALENDAR