BEGIN:VCALENDAR
VERSION:2.0
PRODID:-//time.you/holidays//NONSGML v1.0//EN
BEGIN:VEVENT
UID:4df5e6b2-c1d9-4518-8e23-1cf66d4954d4
DTSTAMP:20260421T194548Z
DTSTART;VALUE=DATE:20260527
SUMMARY:Eid al-Adha (estimated) (Christmas Island)
END:VEVENT
END:VCALENDAR