BEGIN:VCALENDAR
VERSION:2.0
PRODID:-//time.you/holidays//NONSGML v1.0//EN
BEGIN:VEVENT
UID:9b0c8537-5907-4427-a6c4-6b69acdf1189
DTSTAMP:20260422T053849Z
DTSTART;VALUE=DATE:20260320
SUMMARY:Eid al-Fitr (estimated) (Christmas Island)
END:VEVENT
END:VCALENDAR