BEGIN:VCALENDAR
VERSION:2.0
PRODID:-//time.you/holidays//NONSGML v1.0//EN
BEGIN:VEVENT
UID:ac458804-a58c-4f9b-bc4f-7eb66a603dc3
DTSTAMP:20260421T215216Z
DTSTART;VALUE=DATE:20260403
SUMMARY:Good Friday (Christmas Island)
END:VEVENT
END:VCALENDAR