BEGIN:VCALENDAR
VERSION:2.0
PRODID:-//time.you/holidays//NONSGML v1.0//EN
BEGIN:VEVENT
UID:4f822250-7d1a-4da2-92dd-0b94cc4163af
DTSTAMP:20260420T074352Z
DTSTART;VALUE=DATE:20260101
SUMMARY:New Year's Day (Christmas Island)
END:VEVENT
END:VCALENDAR