BEGIN:VCALENDAR
VERSION:2.0
PRODID:-//time.you/holidays//NONSGML v1.0//EN
BEGIN:VEVENT
UID:cb531d59-8be7-454e-a774-c258c8ec6bdc
DTSTAMP:20260420T113800Z
DTSTART;VALUE=DATE:20260406
SUMMARY:Act of Self Determination Day; Easter Monday (Cocos Keeling Islands)
END:VEVENT
END:VCALENDAR