BEGIN:VCALENDAR
VERSION:2.0
PRODID:-//time.you/holidays//NONSGML v1.0//EN
BEGIN:VEVENT
UID:78719a64-d19f-4401-94a4-77dd60d85bed
DTSTAMP:20260420T153047Z
DTSTART;VALUE=DATE:20270406
SUMMARY:Act of Self Determination Day (Cocos Keeling Islands)
END:VEVENT
END:VCALENDAR