BEGIN:VCALENDAR
VERSION:2.0
PRODID:-//time.you/holidays//NONSGML v1.0//EN
BEGIN:VEVENT
UID:54cfa2d8-3a22-461b-b4d6-cc50c70fada6
DTSTAMP:20260420T005414Z
DTSTART;VALUE=DATE:20260427
SUMMARY:ANZAC Day (observed) (Cocos Keeling Islands)
END:VEVENT
END:VCALENDAR