BEGIN:VCALENDAR
VERSION:2.0
PRODID:-//time.you/holidays//NONSGML v1.0//EN
BEGIN:VEVENT
UID:a8444e0d-1b5d-4ce4-be2e-c25ae1fdde42
DTSTAMP:20260422T012453Z
DTSTART;VALUE=DATE:20331226
SUMMARY:Boxing Day; Christmas Day (observed) (Cocos Keeling Islands)
END:VEVENT
END:VCALENDAR