BEGIN:VCALENDAR
VERSION:2.0
PRODID:-//time.you/holidays//NONSGML v1.0//EN
BEGIN:VEVENT
UID:11673dff-a2e3-4ae6-a000-a057629f65e8
DTSTAMP:20260421T223714Z
DTSTART;VALUE=DATE:20261228
SUMMARY:Boxing Day (observed) (Cocos Keeling Islands)
END:VEVENT
END:VCALENDAR