BEGIN:VCALENDAR
VERSION:2.0
PRODID:-//time.you/holidays//NONSGML v1.0//EN
BEGIN:VEVENT
UID:8765a9fe-639b-419c-bc6b-a4c607745912
DTSTAMP:20260420T013800Z
DTSTART;VALUE=DATE:20261225
SUMMARY:Christmas Day (Cocos Keeling Islands)
END:VEVENT
END:VCALENDAR