BEGIN:VCALENDAR
VERSION:2.0
PRODID:-//time.you/holidays//NONSGML v1.0//EN
BEGIN:VEVENT
UID:c2562c15-57e2-4ff6-84ce-1207bac52b61
DTSTAMP:20260422T071328Z
DTSTART;VALUE=DATE:20270329
SUMMARY:Easter Monday (Cocos Keeling Islands)
END:VEVENT
END:VCALENDAR