BEGIN:VCALENDAR
VERSION:2.0
PRODID:-//time.you/holidays//NONSGML v1.0//EN
BEGIN:VEVENT
UID:71d91f8a-25f9-48bb-9cf8-a460b8ea780a
DTSTAMP:20260420T165136Z
DTSTART;VALUE=DATE:20260527
SUMMARY:Eid al-Adha (estimated) (Cocos Keeling Islands)
END:VEVENT
END:VCALENDAR